BEGIN:VCALENDAR
METHOD:PUBLISH
VERSION:2.0
PRODID:-//Apple Inc.//iCal 4.0.1//EN
BEGIN:VEVENT
UID:4553054
DTSTAMP:20260421T200407Z
DTSTART;VALUE=DATE:20220906
DTEND;VALUE=DATE:20220906
SUMMARY:Start of Autumn Term 2022
DESCRIPTION:<![CDATA[Welcome back!]]>
END:VEVENT
CALSCALE:GREGORIAN
END:VCALENDAR
 